BEGIN:VCALENDAR
VERSION:2.0
PRODID:-//Contratero//ES
CALSCALE:GREGORIAN
METHOD:PUBLISH
BEGIN:VEVENT
UID:SSCC PN 170/25@contratero.es
DTSTAMP:20260421T053925Z
DTSTART:20251006T235959
DTEND:20251007T005959
SUMMARY:Cierre: servicio de mantenimiento correctivo y preventivo 
DESCRIPTION:servicio de mantenimiento correctivo y preventivo de las aplicaciones de gestión de turnos AIDA\\n\\nOrganismo: Servicio de Salud de las Illes Balears\\n\\nVer en Contratero: https://contratero.es/contracts/SSCC PN 170/25
URL:https://contratero.es/contracts/SSCC PN 170/25
STATUS:CONFIRMED
BEGIN:VALARM
TRIGGER:-P1D
ACTION:DISPLAY
DESCRIPTION:Recordatorio: servicio de mantenimiento corr
END:VALARM
END:VEVENT
END:VCALENDAR